Workbook

Sheet Welcome Page
B31: Click here to start >>

Sheet Your Responses
B1: Tick the box for each statement ONLY if you AGREE more than Disagree with the Statement
B2: Q1 | D2: FALSE | E2: =INT(D2) -> 0
B3: Q2 | D3: FALSE | E3: =INT(D3) -> 0
B4: Q3 | D4: FALSE | E4: =INT(D4) -> 0
B5: Q4 | D5: FALSE | E5: =INT(D5) -> 0
B6: Q5 | D6: FALSE | E6: =INT(D6) -> 0
B7: Q6 | D7: FALSE | E7: =INT(D7) -> 0
B8: Q7 | D8: FALSE | E8: =INT(D8) -> 0
B9: Q8 | D9: FALSE | E9: =INT(D9) -> 0
B10: Q9 | D10: FALSE | E10: =INT(D10) -> 0
B11: Q10 | D11: FALSE | E11: =INT(D11) -> 0
B12: Q11 | D12: FALSE | E12: =INT(D12) -> 0
B13: Q12 | D13: FALSE | E13: =INT(D13) -> 0
... B81: Q80 | D81: FALSE | E81: =INT(D81) -> 0
B82: SC0 | C82: Total Score | D82: =COUNTIF(D2:D81,TRUE) -> 0 | E82: =SUMPRODUCT(($C$2:$C$81=TRUE)*$D$2:$D$81) -> 0
C83: Activist | E83: =SUM(E3+E5+E7+E11+E18+E24+E25+E33+E35+E39+E41+E44+E46+E49+E59+E65+E72+E73+E75+E80) -> 0
C84: Reflector | E84: =SUM(E8+E14+E16+E17+E26+E29+E30+E32+E34+E37+E40+E42+E47+E53+E56+E61+E63+E67+E68+E77) -> 0
C85: Theorist | E85: =SUM(E2+E4+E9+E13+E15+E19+E21+E23+E27+E31+E43+E48+E52+E58+E62+E64+E69+E76+E78+E79) -> 0
B86: Theorist | C86: Pragmatist | E86: =SUM(E6+E10+E12+E20+E22+E28+E36+E38+E45+E50+E51+E54+E55+E57+E60+E66+E70+E71+E74+E81) -> 0
C88: Go to Your Profiles

Sheet Your Preferred Styles
B3: ='Your Responses'!C83 -> Activist | C3: ='Your Responses'!E83 -> 0 | G3: =B3 -> Activist | H3: =SUM(C3/$C$7)*100 -> #DIV/0!
B4: ='Your Responses'!C84 -> Reflector | C4: ='Your Responses'!E84 -> 0 | G4: =B4 -> Reflector | H4: =SUM(C4/$C$7)*100 -> #DIV/0!
B5: ='Your Responses'!C85 -> Theorist | C5: ='Your Responses'!E85 -> 0 | G5: =B5 -> Theorist | H5: =SUM(C5/$C$7)*100 -> #DIV/0!
B6: ='Your Responses'!C86 -> Pragmatist | C6: ='Your Responses'!E86 -> 0 | G6: =B6 -> Pragmatist | H6: =SUM(C6/$C$7)*100 -> #DIV/0!
C7: =SUM(C3:C6) -> 0 | H7: =SUM(H3:H6) -> #DIV/0!
